BEGIN:VCALENDAR
PRODID:iCalendar-Ruby
VERSION:2.0
X-WR-TIMEZONE:America/Los_Angeles
BEGIN:VTIMEZONE
TZID:America/Los_Angeles
X-LIC-LOCATION:America/Los_Angeles
BEGIN:STANDARD
DTSTART:20241103T020000
RRULE:FREQ=YEARLY;BYDAY=1SU;BYMONTH=11
TZNAME:PST
TZOFFSETFROM:-0700
TZOFFSETTO:-0800
END:STANDARD
BEGIN:DAYLIGHT
DTSTART:20250309T020000
RRULE:FREQ=YEARLY;BYDAY=2SU;BYMONTH=3
TZNAME:PDT
TZOFFSETFROM:-0800
TZOFFSETTO:-0700
END:DAYLIGHT
END:VTIMEZONE
BEGIN:VEVENT
DESCRIPTION:The City of Salmon Arm will be holding a volunteer activity day
  to demonstrate FireSmart procedures and help reduce the wildfire hazard i
 n Little Mountain Park and adjacent area. Volunteers will be removing the 
 flammable debris and forest slash from off the ground\, thinning out the u
 nderstory and limbing the lower branches of remaining trees. This activity
  will reduce the likelihood of intense fire behavior\, increase forest hea
 lth and create a more open park like landscape. To demonstrate procedures 
 residents and businesses can use to protect homes and properties from wild
 fire https://salmonarm.ca/calendar.aspx?EID=1372
DTEND;TZID=America/Los_Angeles:20190615T130000
DTSTAMP;TZID=America/Los_Angeles:20190607T100922
DTSTART;TZID=America/Los_Angeles:20190615T080000
LAST-MODIFIED;TZID=America/Los_Angeles:20190607T100922
LOCATION:Little Mountain Sports Complex - 250 30 Street Southeast  Salmon A
 rm BC V1E 4N2
SEQUENCE:0
SUMMARY:Salmon Arm’s First FireSmart Activity Day
UID:1372
URL:/common/modules/iCalendar/iCalendar.aspx?feed=calendar&eventID=1372
END:VEVENT
END:VCALENDAR
